Package: miRNAmeConverter Version: 1.30.0 Command: rm -rf miRNAmeConverter.buildbin-libdir && mkdir miRNAmeConverter.buildbin-libdir && /Users/biocbuild/BBS/utils/build-universal.sh miRNAmeConverter_1.30.0.tar.gz /Library/Frameworks/R.framework/Resources/bin/R miRNAmeConverter.buildbin-libdir StartedAt: 2024-04-16 12:13:35 -0400 (Tue, 16 Apr 2024) EndedAt: 2024-04-16 12:14:10 -0400 (Tue, 16 Apr 2024) EllapsedTime: 34.9 seconds RetCode: 0 Status: OK PackageFile: miRNAmeConverter_1.30.0.tgz PackageFileSize: 581.5 KiB