Package: miRNAmeConverter Version: 1.30.0 Command: /Library/Frameworks/R.framework/Resources/bin/R CMD build --keep-empty-dirs --no-resave-data miRNAmeConverter StartedAt: 2024-04-15 20:03:35 -0400 (Mon, 15 Apr 2024) EndedAt: 2024-04-15 20:03:37 -0400 (Mon, 15 Apr 2024) EllapsedTime: 1.2 seconds RetCode: 0 Status: OK PackageFile: miRNAmeConverter_1.30.0.tar.gz PackageFileSize: 313.7 KiB