Package: miRNAmeConverter Version: 1.30.0 Command: /home/biocbuild/bbs-3.18-bioc/R/bin/R CMD build --keep-empty-dirs --no-resave-data miRNAmeConverter StartedAt: 2024-04-15 17:58:39 -0400 (Mon, 15 Apr 2024) EndedAt: 2024-04-15 17:58:40 -0400 (Mon, 15 Apr 2024) EllapsedTime: 0.6 seconds RetCode: 0 Status: OK PackageFile: miRNAmeConverter_1.30.0.tar.gz PackageFileSize: 313.7 KiB