Package: miRNAmeConverter Version: 1.30.0 Command: rm -rf miRNAmeConverter.buildbin-libdir && mkdir miRNAmeConverter.buildbin-libdir && F:\biocbuild\bbs-3.18-bioc\R\bin\R.exe CMD INSTALL --build --library=miRNAmeConverter.buildbin-libdir miRNAmeConverter_1.30.0.tar.gz StartedAt: 2024-04-16 07:17:36 -0400 (Tue, 16 Apr 2024) EndedAt: 2024-04-16 07:17:59 -0400 (Tue, 16 Apr 2024) EllapsedTime: 22.8 seconds RetCode: 0 Status: OK PackageFile: miRNAmeConverter_1.30.0.zip PackageFileSize: 584.9 KiB