Package: miRNAtap Version: 1.36.0 Command: /Library/Frameworks/R.framework/Resources/bin/R CMD INSTALL miRNAtap StartedAt: 2024-03-03 15:15:47 -0500 (Sun, 03 Mar 2024) EndedAt: 2024-03-03 15:16:08 -0500 (Sun, 03 Mar 2024) EllapsedTime: 21.5 seconds RetCode: 0 Status: OK