Package: miRNAtap Version: 1.36.0 Command: chmod a+r miRNAtap -R && F:\biocbuild\bbs-3.18-bioc\R\bin\R.exe CMD build --keep-empty-dirs --no-resave-data miRNAtap StartedAt: 2024-04-15 19:35:23 -0400 (Mon, 15 Apr 2024) EndedAt: 2024-04-15 19:36:18 -0400 (Mon, 15 Apr 2024) EllapsedTime: 55.4 seconds RetCode: 0 Status: OK PackageFile: miRNAtap_1.36.0.tar.gz PackageFileSize: 101.6 KiB