Package: microbiomeMarker Version: 1.8.0 Command: /Library/Frameworks/R.framework/Resources/bin/R CMD build --keep-empty-dirs --no-resave-data microbiomeMarker StartedAt: 2024-03-03 17:22:11 -0500 (Sun, 03 Mar 2024) EndedAt: 2024-03-03 17:25:12 -0500 (Sun, 03 Mar 2024) EllapsedTime: 180.9 seconds RetCode: 0 Status: OK PackageFile: microbiomeMarker_1.8.0.tar.gz PackageFileSize: 2.665 MiB