Package: minet Version: 3.60.0 Command: rm -rf minet.buildbin-libdir && mkdir minet.buildbin-libdir && F:\biocbuild\bbs-3.18-bioc\R\bin\R.exe CMD INSTALL --build --library=minet.buildbin-libdir minet_3.60.0.tar.gz StartedAt: 2024-04-16 07:17:10 -0400 (Tue, 16 Apr 2024) EndedAt: 2024-04-16 07:17:31 -0400 (Tue, 16 Apr 2024) EllapsedTime: 21.1 seconds RetCode: 0 Status: OK PackageFile: minet_3.60.0.zip PackageFileSize: 412.2 KiB