Package: mistyR Version: 1.10.0 Command: /home/biocbuild/R/R-4.3.1/bin/R CMD build --keep-empty-dirs --no-resave-data mistyR StartedAt: 2023-11-02 03:32:51 -0000 (Thu, 02 Nov 2023) EndedAt: 2023-11-02 03:35:45 -0000 (Thu, 02 Nov 2023) EllapsedTime: 174.2 seconds RetCode: 0 Status: OK PackageFile: mistyR_1.10.0.tar.gz PackageFileSize: 3.005 MiB