Package: mistyR Version: 1.10.0 Command: /Library/Frameworks/R.framework/Resources/bin/R CMD build --keep-empty-dirs --no-resave-data mistyR StartedAt: 2024-04-15 20:04:50 -0400 (Mon, 15 Apr 2024) EndedAt: 2024-04-15 20:08:58 -0400 (Mon, 15 Apr 2024) EllapsedTime: 247.4 seconds RetCode: 0 Status: OK PackageFile: mistyR_1.10.0.tar.gz PackageFileSize: 3.096 MiB