Package: mistyR Version: 1.10.0 Command: /Library/Frameworks/R.framework/Resources/bin/R CMD check --install=check:mistyR.install-out.txt --library=/Library/Frameworks/R.framework/Resources/library --no-vignettes --timings mistyR_1.10.0.tar.gz StartedAt: 2024-04-16 05:30:45 -0400 (Tue, 16 Apr 2024) EndedAt: 2024-04-16 05:56:53 -0400 (Tue, 16 Apr 2024) EllapsedTime: 1567.6 seconds RetCode: 0 Status: OK CheckDir: mistyR.Rcheck Warnings: 0