Package: mistyR Version: 1.10.0 Command: rm -rf mistyR.buildbin-libdir && mkdir mistyR.buildbin-libdir && F:\biocbuild\bbs-3.18-bioc\R\bin\R.exe CMD INSTALL --build --library=mistyR.buildbin-libdir mistyR_1.10.0.tar.gz StartedAt: 2024-04-16 07:17:50 -0400 (Tue, 16 Apr 2024) EndedAt: 2024-04-16 07:18:04 -0400 (Tue, 16 Apr 2024) EllapsedTime: 13.8 seconds RetCode: 0 Status: OK PackageFile: mistyR_1.10.0.zip PackageFileSize: 2.886 MiB