Package: mitoClone2 Version: 1.8.1 Command: /Library/Frameworks/R.framework/Resources/bin/R CMD build --keep-empty-dirs --no-resave-data mitoClone2 StartedAt: 2024-03-03 17:24:49 -0500 (Sun, 03 Mar 2024) EndedAt: 2024-03-03 17:31:31 -0500 (Sun, 03 Mar 2024) EllapsedTime: 401.6 seconds RetCode: 0 Status: OK PackageFile: mitoClone2_1.8.1.tar.gz PackageFileSize: 1.386 MiB