Package: mitoClone2 Version: 1.8.1 Command: rm -rf mitoClone2.buildbin-libdir && mkdir mitoClone2.buildbin-libdir && F:\biocbuild\bbs-3.18-bioc\R\bin\R.exe CMD INSTALL --build --library=mitoClone2.buildbin-libdir mitoClone2_1.8.1.tar.gz StartedAt: 2024-04-16 07:17:53 -0400 (Tue, 16 Apr 2024) EndedAt: 2024-04-16 07:19:16 -0400 (Tue, 16 Apr 2024) EllapsedTime: 82.7 seconds RetCode: 0 Status: OK PackageFile: mitoClone2_1.8.1.zip PackageFileSize: 6.449 MiB