Package: mixOmics Version: 6.26.0 Command: chmod a+r mixOmics -R && F:\biocbuild\bbs-3.18-bioc\R\bin\R.exe CMD build --keep-empty-dirs --no-resave-data mixOmics StartedAt: 2024-04-15 19:35:55 -0400 (Mon, 15 Apr 2024) EndedAt: 2024-04-15 19:47:26 -0400 (Mon, 15 Apr 2024) EllapsedTime: 691.1 seconds RetCode: 0 Status: OK PackageFile: mixOmics_6.26.0.tar.gz PackageFileSize: 11.58 MiB