Package: moanin Version: 1.10.0 Command: /home/biocbuild/bbs-3.18-bioc/R/bin/R CMD check --install=check:moanin.install-out.txt --library=/home/biocbuild/bbs-3.18-bioc/R/site-library --timings moanin_1.10.0.tar.gz StartedAt: 2024-04-16 01:03:46 -0400 (Tue, 16 Apr 2024) EndedAt: 2024-04-16 01:09:54 -0400 (Tue, 16 Apr 2024) EllapsedTime: 368.5 seconds RetCode: 0 Status: OK CheckDir: moanin.Rcheck Warnings: 0