Package: moanin Version: 1.10.0 Command: rm -rf moanin.buildbin-libdir && mkdir moanin.buildbin-libdir && F:\biocbuild\bbs-3.18-bioc\R\bin\R.exe CMD INSTALL --build --library=moanin.buildbin-libdir moanin_1.10.0.tar.gz StartedAt: 2024-04-16 07:18:08 -0400 (Tue, 16 Apr 2024) EndedAt: 2024-04-16 07:19:02 -0400 (Tue, 16 Apr 2024) EllapsedTime: 53.8 seconds RetCode: 0 Status: OK PackageFile: moanin_1.10.0.zip PackageFileSize: 920.9 KiB