Package: mogsa Version: 1.36.0 Command: /home/biocbuild/bbs-3.18-bioc/R/bin/R CMD build --keep-empty-dirs --no-resave-data mogsa StartedAt: 2024-04-15 18:01:13 -0400 (Mon, 15 Apr 2024) EndedAt: 2024-04-15 18:03:15 -0400 (Mon, 15 Apr 2024) EllapsedTime: 121.7 seconds RetCode: 0 Status: OK PackageFile: mogsa_1.36.0.tar.gz PackageFileSize: 773.6 KiB