Package: mosbi Version: 1.8.0 Command: rm -rf mosbi.buildbin-libdir && mkdir mosbi.buildbin-libdir && F:\biocbuild\bbs-3.18-bioc\R\bin\R.exe CMD INSTALL --build --library=mosbi.buildbin-libdir mosbi_1.8.0.tar.gz StartedAt: 2024-04-16 07:18:38 -0400 (Tue, 16 Apr 2024) EndedAt: 2024-04-16 07:21:06 -0400 (Tue, 16 Apr 2024) EllapsedTime: 148.2 seconds RetCode: 0 Status: OK PackageFile: mosbi_1.8.0.zip PackageFileSize: 1.822 MiB