Package: msPurity Version: 1.28.0 Command: /home/biocbuild/R/R-4.3.1/bin/R CMD build --keep-empty-dirs --no-resave-data msPurity StartedAt: 2023-11-02 03:47:54 -0000 (Thu, 02 Nov 2023) EndedAt: 2023-11-02 03:59:50 -0000 (Thu, 02 Nov 2023) EllapsedTime: 716.8 seconds RetCode: 0 Status: OK PackageFile: msPurity_1.28.0.tar.gz PackageFileSize: 11.48 MiB