Package: msa Version: 1.34.0 Command: /Library/Frameworks/R.framework/Resources/bin/R CMD INSTALL msa StartedAt: 2024-03-03 15:08:29 -0500 (Sun, 03 Mar 2024) EndedAt: 2024-03-03 15:16:54 -0500 (Sun, 03 Mar 2024) EllapsedTime: 504.8 seconds RetCode: 0 Status: OK