Package: multiGSEA Version: 1.12.0 Command: /home/biocbuild/R/R-4.3.1/bin/R CMD INSTALL multiGSEA StartedAt: 2023-11-01 21:03:37 -0000 (Wed, 01 Nov 2023) EndedAt: 2023-11-01 21:05:34 -0000 (Wed, 01 Nov 2023) EllapsedTime: 116.6 seconds RetCode: 0 Status: OK