Package: multiGSEA Version: 1.12.0 Command: rm -rf multiGSEA.buildbin-libdir && mkdir multiGSEA.buildbin-libdir && /Users/biocbuild/BBS/utils/build-universal.sh multiGSEA_1.12.0.tar.gz /Library/Frameworks/R.framework/Resources/bin/R multiGSEA.buildbin-libdir StartedAt: 2024-03-04 00:52:46 -0500 (Mon, 04 Mar 2024) EndedAt: 2024-03-04 00:54:43 -0500 (Mon, 04 Mar 2024) EllapsedTime: 116.8 seconds RetCode: 0 Status: OK PackageFile: multiGSEA_1.12.0.tgz PackageFileSize: 980.2 KiB