Package: multiGSEA Version: 1.12.0 Command: /Library/Frameworks/R.framework/Resources/bin/R CMD INSTALL multiGSEA StartedAt: 2024-03-03 15:44:59 -0500 (Sun, 03 Mar 2024) EndedAt: 2024-03-03 15:46:54 -0500 (Sun, 03 Mar 2024) EllapsedTime: 114.5 seconds RetCode: 0 Status: OK