Package: multiMiR Version: 1.24.0 Command: rm -rf multiMiR.buildbin-libdir && mkdir multiMiR.buildbin-libdir && /Users/biocbuild/BBS/utils/build-universal.sh multiMiR_1.24.0.tar.gz /Library/Frameworks/R.framework/Resources/bin/R multiMiR.buildbin-libdir StartedAt: 2024-04-16 12:17:47 -0400 (Tue, 16 Apr 2024) EndedAt: 2024-04-16 12:18:26 -0400 (Tue, 16 Apr 2024) EllapsedTime: 38.4 seconds RetCode: 0 Status: OK PackageFile: multiMiR_1.24.0.tgz PackageFileSize: 635.5 KiB