Package: multiMiR Version: 1.24.0 Command: chmod a+r multiMiR -R && F:\biocbuild\bbs-3.18-bioc\R\bin\R.exe CMD build --keep-empty-dirs --no-resave-data multiMiR StartedAt: 2024-04-15 19:48:33 -0400 (Mon, 15 Apr 2024) EndedAt: 2024-04-15 19:49:42 -0400 (Mon, 15 Apr 2024) EllapsedTime: 68.8 seconds RetCode: 0 Status: OK PackageFile: multiMiR_1.24.0.tar.gz PackageFileSize: 333.3 KiB