Package: multiSight Version: 1.10.0 Maintainer: Florian Jeanneret MaintainerEmail: florian.jeanneret at cea.fr git_url: https://git.bioconductor.org/packages/multiSight git_branch: RELEASE_3_18 git_last_commit: b9ae929 git_last_commit_date: 2023-10-24 11:32:57 -0400 (Tue, 24 Oct 2023)