Package: multiSight Version: 1.10.0 Command: /home/biocbuild/R/R-4.3.1/bin/R CMD build --keep-empty-dirs --no-resave-data multiSight StartedAt: 2023-11-02 03:52:23 -0000 (Thu, 02 Nov 2023) EndedAt: 2023-11-02 03:56:01 -0000 (Thu, 02 Nov 2023) EllapsedTime: 218.3 seconds RetCode: 0 Status: OK PackageFile: multiSight_1.10.0.tar.gz PackageFileSize: 2.504 MiB