Package: multiSight Version: 1.10.0 Command: chmod a+r multiSight -R && F:\biocbuild\bbs-3.18-bioc\R\bin\R.exe CMD build --keep-empty-dirs --no-resave-data multiSight StartedAt: 2024-04-15 19:49:00 -0400 (Mon, 15 Apr 2024) EndedAt: 2024-04-15 19:51:17 -0400 (Mon, 15 Apr 2024) EllapsedTime: 136.8 seconds RetCode: 0 Status: OK PackageFile: multiSight_1.10.0.tar.gz PackageFileSize: 2.403 MiB