Package: multicrispr Version: 1.12.0 Command: /home/biocbuild/R/R-4.3.1/bin/R CMD check --install=check:multicrispr.install-out.txt --library=/home/biocbuild/R/R-4.3.1/site-library --no-vignettes --timings multicrispr_1.12.0.tar.gz StartedAt: 2023-11-02 12:32:29 -0000 (Thu, 02 Nov 2023) EndedAt: 2023-11-02 12:41:12 -0000 (Thu, 02 Nov 2023) EllapsedTime: 522.5 seconds RetCode: 0 Status: OK CheckDir: multicrispr.Rcheck Warnings: 0