Package: multicrispr Version: 1.12.3 Command: rm -rf multicrispr.buildbin-libdir && mkdir multicrispr.buildbin-libdir && /Users/biocbuild/BBS/utils/build-universal.sh multicrispr_1.12.3.tar.gz /Library/Frameworks/R.framework/Resources/bin/R multicrispr.buildbin-libdir StartedAt: 2024-03-04 00:52:45 -0500 (Mon, 04 Mar 2024) EndedAt: 2024-03-04 00:53:38 -0500 (Mon, 04 Mar 2024) EllapsedTime: 53.2 seconds RetCode: 0 Status: OK PackageFile: multicrispr_1.12.3.tgz PackageFileSize: 2.658 MiB