Package: multicrispr Version: 1.12.9 Command: /Library/Frameworks/R.framework/Resources/bin/R CMD INSTALL multicrispr StartedAt: 2024-04-15 15:52:20 -0400 (Mon, 15 Apr 2024) EndedAt: 2024-04-15 15:53:35 -0400 (Mon, 15 Apr 2024) EllapsedTime: 74.7 seconds RetCode: 0 Status: OK