Package: multicrispr Version: 1.12.9 Command: /home/biocbuild/bbs-3.18-bioc/R/bin/R CMD check --install=check:multicrispr.install-out.txt --library=/home/biocbuild/bbs-3.18-bioc/R/site-library --timings multicrispr_1.12.9.tar.gz StartedAt: 2024-04-16 01:20:16 -0400 (Tue, 16 Apr 2024) EndedAt: 2024-04-16 01:27:46 -0400 (Tue, 16 Apr 2024) EllapsedTime: 449.5 seconds RetCode: 1 Status: ERROR CheckDir: multicrispr.Rcheck Warnings: NA