Package: multicrispr Version: 1.12.9 Command: rm -rf multicrispr.buildbin-libdir && mkdir multicrispr.buildbin-libdir && F:\biocbuild\bbs-3.18-bioc\R\bin\R.exe CMD INSTALL --build --library=multicrispr.buildbin-libdir multicrispr_1.12.9.tar.gz StartedAt: 2024-04-16 07:20:30 -0400 (Tue, 16 Apr 2024) EndedAt: 2024-04-16 07:21:20 -0400 (Tue, 16 Apr 2024) EllapsedTime: 49.2 seconds RetCode: 0 Status: OK PackageFile: multicrispr_1.12.9.zip PackageFileSize: 2.135 MiB