Package: multicrispr Version: 1.12.9 Command: chmod a+r multicrispr -R && F:\biocbuild\bbs-3.18-bioc\R\bin\R.exe CMD build --keep-empty-dirs --no-resave-data multicrispr StartedAt: 2024-04-15 19:48:11 -0400 (Mon, 15 Apr 2024) EndedAt: 2024-04-15 19:50:05 -0400 (Mon, 15 Apr 2024) EllapsedTime: 113.9 seconds RetCode: 0 Status: OK PackageFile: multicrispr_1.12.9.tar.gz PackageFileSize: 1.967 MiB