Package: myvariant Version: 1.32.0 Command: rm -rf myvariant.buildbin-libdir && mkdir myvariant.buildbin-libdir && /Users/biocbuild/BBS/utils/build-universal.sh myvariant_1.32.0.tar.gz /Library/Frameworks/R.framework/Resources/bin/R myvariant.buildbin-libdir StartedAt: 2024-03-04 00:53:08 -0500 (Mon, 04 Mar 2024) EndedAt: 2024-03-04 00:54:11 -0500 (Mon, 04 Mar 2024) EllapsedTime: 62.5 seconds RetCode: 0 Status: OK PackageFile: myvariant_1.32.0.tgz PackageFileSize: 217.4 KiB