Package: myvariant Version: 1.32.0 Command: /Library/Frameworks/R.framework/Resources/bin/R CMD build --keep-empty-dirs --no-resave-data myvariant StartedAt: 2024-04-15 20:23:01 -0400 (Mon, 15 Apr 2024) EndedAt: 2024-04-15 20:25:19 -0400 (Mon, 15 Apr 2024) EllapsedTime: 137.3 seconds RetCode: 0 Status: OK PackageFile: myvariant_1.32.0.tar.gz PackageFileSize: 157.9 KiB