Package: myvariant Version: 1.32.0 Command: /Library/Frameworks/R.framework/Resources/bin/R CMD INSTALL myvariant StartedAt: 2024-04-15 15:47:20 -0400 (Mon, 15 Apr 2024) EndedAt: 2024-04-15 15:48:48 -0400 (Mon, 15 Apr 2024) EllapsedTime: 88.7 seconds RetCode: 0 Status: OK