Package: nanotatoR Version: 1.18.0 Command: /home/biocbuild/R/R-4.3.1/bin/R CMD build --keep-empty-dirs --no-resave-data nanotatoR StartedAt: 2023-11-02 03:57:26 -0000 (Thu, 02 Nov 2023) EndedAt: 2023-11-02 03:58:10 -0000 (Thu, 02 Nov 2023) EllapsedTime: 44.1 seconds RetCode: 0 Status: OK PackageFile: nanotatoR_1.18.0.tar.gz PackageFileSize: 214.6 KiB