Package: nanotatoR Version: 1.18.0 Command: /home/biocbuild/R/R-4.3.1/bin/R CMD check --install=check:nanotatoR.install-out.txt --library=/home/biocbuild/R/R-4.3.1/site-library --no-vignettes --timings nanotatoR_1.18.0.tar.gz StartedAt: 2023-11-02 12:36:45 -0000 (Thu, 02 Nov 2023) EndedAt: 2023-11-02 12:39:56 -0000 (Thu, 02 Nov 2023) EllapsedTime: 190.6 seconds RetCode: 0 Status: OK CheckDir: nanotatoR.Rcheck Warnings: 0