Package: nanotatoR Version: 1.18.0 Command: /home/biocbuild/R/R-4.3.1/bin/R CMD INSTALL nanotatoR StartedAt: 2023-11-01 20:59:01 -0000 (Wed, 01 Nov 2023) EndedAt: 2023-11-01 20:59:39 -0000 (Wed, 01 Nov 2023) EllapsedTime: 37.7 seconds RetCode: 0 Status: OK