Package: nanotatoR Version: 1.18.0 Command: /home/biocbuild/bbs-3.18-bioc/R/bin/R CMD INSTALL nanotatoR StartedAt: 2024-04-15 15:46:22 -0400 (Mon, 15 Apr 2024) EndedAt: 2024-04-15 15:46:48 -0400 (Mon, 15 Apr 2024) EllapsedTime: 26.3 seconds RetCode: 0 Status: OK