Package: ncGTW
Version: 1.16.0
Command: /home/biocbuild/bbs-3.18-bioc/R/bin/R CMD build --keep-empty-dirs --no-resave-data ncGTW
StartedAt: 2024-04-15 18:10:33 -0400 (Mon, 15 Apr 2024)
EndedAt: 2024-04-15 18:13:57 -0400 (Mon, 15 Apr 2024)
EllapsedTime: 204.1 seconds
RetCode: 0
Status: OK
PackageFile: ncGTW_1.16.0.tar.gz
PackageFileSize: 2.203 <A href="http://en.wikipedia.org/wiki/MiB" target="_blank">MiB</A>