Package: ncRNAtools Version: 1.12.0 Command: /Library/Frameworks/R.framework/Resources/bin/R CMD check --install=check:ncRNAtools.install-out.txt --library=/Library/Frameworks/R.framework/Resources/library --no-vignettes --timings ncRNAtools_1.12.0.tar.gz StartedAt: 2024-03-03 22:09:21 -0500 (Sun, 03 Mar 2024) EndedAt: 2024-03-03 22:11:38 -0500 (Sun, 03 Mar 2024) EllapsedTime: 137.4 seconds RetCode: 0 Status: OK CheckDir: ncRNAtools.Rcheck Warnings: 0