Package: netSmooth Version: 1.22.0 Command: /home/biocbuild/R/R-4.3.1/bin/R CMD INSTALL netSmooth StartedAt: 2023-11-01 20:57:07 -0000 (Wed, 01 Nov 2023) EndedAt: 2023-11-01 20:58:13 -0000 (Wed, 01 Nov 2023) EllapsedTime: 66.5 seconds RetCode: 0 Status: OK