Package: netSmooth Version: 1.22.0 Command: /Library/Frameworks/R.framework/Resources/bin/R CMD build --keep-empty-dirs --no-resave-data netSmooth StartedAt: 2024-03-03 17:36:14 -0500 (Sun, 03 Mar 2024) EndedAt: 2024-03-03 17:38:35 -0500 (Sun, 03 Mar 2024) EllapsedTime: 141.7 seconds RetCode: 0 Status: OK PackageFile: netSmooth_1.22.0.tar.gz PackageFileSize: 2.99 MiB