Package: netSmooth Version: 1.22.0 Command: /Library/Frameworks/R.framework/Resources/bin/R CMD INSTALL netSmooth StartedAt: 2024-04-15 16:29:30 -0400 (Mon, 15 Apr 2024) EndedAt: 2024-04-15 16:31:11 -0400 (Mon, 15 Apr 2024) EllapsedTime: 101.2 seconds RetCode: 0 Status: OK