Package: netSmooth Version: 1.22.0 Command: chmod a+r netSmooth -R && F:\biocbuild\bbs-3.18-bioc\R\bin\R.exe CMD build --keep-empty-dirs --no-resave-data netSmooth StartedAt: 2024-04-15 19:54:00 -0400 (Mon, 15 Apr 2024) EndedAt: 2024-04-15 19:56:16 -0400 (Mon, 15 Apr 2024) EllapsedTime: 135.9 seconds RetCode: 0 Status: OK PackageFile: netSmooth_1.22.0.tar.gz PackageFileSize: 2.685 MiB