Package: netZooR Version: 1.6.0 Command: /home/biocbuild/bbs-3.18-bioc/R/bin/R CMD build --keep-empty-dirs --no-resave-data netZooR StartedAt: 2024-04-15 18:12:33 -0400 (Mon, 15 Apr 2024) EndedAt: 2024-04-15 18:14:28 -0400 (Mon, 15 Apr 2024) EllapsedTime: 115.1 seconds RetCode: 0 Status: OK PackageFile: netZooR_1.6.0.tar.gz PackageFileSize: 3.053 MiB