Package: netboxr Version: 1.11.1 Command: /home/biocbuild/bbs-3.18-bioc/R/bin/R CMD build --keep-empty-dirs --no-resave-data netboxr StartedAt: 2023-04-20 05:16:43 -0400 (Thu, 20 Apr 2023) EndedAt: 2023-04-20 05:18:31 -0400 (Thu, 20 Apr 2023) EllapsedTime: 108.0 seconds RetCode: 0 Status: OK PackageFile: netboxr_1.11.1.tar.gz PackageFileSize: 2.341 MiB